BEGIN:VCALENDAR
VERSION:2.0
PRODID:-//The Anglican Communion Office - ECPv6.15.20//NONSGML v1.0//EN
CALSCALE:GREGORIAN
METHOD:PUBLISH
X-WR-CALNAME:The Anglican Communion Office
X-ORIGINAL-URL:https://www.anglicancommunion.org
X-WR-CALDESC:Events for The Anglican Communion Office
REFRESH-INTERVAL;VALUE=DURATION:PT1H
X-Robots-Tag:noindex
X-PUBLISHED-TTL:PT1H
BEGIN:VTIMEZONE
TZID:Europe/London
BEGIN:DAYLIGHT
TZOFFSETFROM:+0000
TZOFFSETTO:+0100
TZNAME:BST
DTSTART:20250330T010000
END:DAYLIGHT
BEGIN:STANDARD
TZOFFSETFROM:+0100
TZOFFSETTO:+0000
TZNAME:GMT
DTSTART:20251026T010000
END:STANDARD
BEGIN:DAYLIGHT
TZOFFSETFROM:+0000
TZOFFSETTO:+0100
TZNAME:BST
DTSTART:20260329T010000
END:DAYLIGHT
BEGIN:STANDARD
TZOFFSETFROM:+0100
TZOFFSETTO:+0000
TZNAME:GMT
DTSTART:20261025T010000
END:STANDARD
BEGIN:DAYLIGHT
TZOFFSETFROM:+0000
TZOFFSETTO:+0100
TZNAME:BST
DTSTART:20270328T010000
END:DAYLIGHT
BEGIN:STANDARD
TZOFFSETFROM:+0100
TZOFFSETTO:+0000
TZNAME:GMT
DTSTART:20271031T010000
END:STANDARD
END:VTIMEZONE
BEGIN:VEVENT
DTSTART;VALUE=DATE:20260627
DTEND;VALUE=DATE:20260706
DTSTAMP:20260421T225904
CREATED:20250724T114927Z
LAST-MODIFIED:20260307T185344Z
UID:1740-1782518400-1783295999@www.anglicancommunion.org
SUMMARY:The 19th Anglican Consultative Council (ACC-19)
DESCRIPTION:The 19th meeting of the Anglican Consultative Council (ACC-19) will be held from June 27- Sunday July 5\, 2026. It will be facilitated by the Anglican Communion Office and hosted by the Church of Ireland. \nClick here for more details on ACC-19
URL:https://www.anglicancommunion.org/event/the-19th-anglican-consultative-council-acc19/
CATEGORIES:ACC
END:VEVENT
END:VCALENDAR